BEGIN:VCALENDAR
VERSION:2.0
PRODID:-//wp-events-plugin.com//7.2.3.1//EN
TZID:Australia/Sydney
X-WR-TIMEZONE:Australia/Sydney
BEGIN:VEVENT
UID:7@ausfo.org.au
DTSTART;TZID=Australia/Sydney:20161013T210000
DTEND;TZID=Australia/Sydney:20161014T210000
DTSTAMP:20160805T110335Z
URL:https://www.ausfo.org.au/events/the-australasian-college-of-legal-medi
 cineexpert-witness-training-program/
SUMMARY:The Australasian College of Legal MedicineExpert Witness Training P
 rogram
DESCRIPTION:Expert Witness Training Program – 13 &amp\; 14 October 2016\n
 Thur 13th Oct – Evening Lectures (4.30pm – 9.00pm)\nFri 14th Oct – M
 ock Trials (9.00am – 5.00pm)\nMercure Treasury Gardens\, Melbourne\n[lea
 rn_more caption="Click on link for more about this course " state="open"] 
 ACLM expert witness course[/learn_more]
CATEGORIES:General Forensic,Local Event
LOCATION:Mercure Treasury Gardens\, Melbourne\, Mercure Treasury Gardens\, 
 Melbourne\, Victoria\, Australia
GEO:-37.814753;144.97431900000004
X-APPLE-STRUCTURED-LOCATION;VALUE=URI;X-ADDRESS=Mercure Treasury Gardens\, 
 Melbourne\, Victoria\, Australia;X-APPLE-RADIUS=100;X-TITLE=Mercure Treasu
 ry Gardens\, Melbourne:geo:-37.814753,144.97431900000004
END:VEVENT
BEGIN:VTIMEZONE
TZID:Australia/Sydney
X-LIC-LOCATION:Australia/Sydney
BEGIN:DAYLIGHT
DTSTART:20161002T030000
TZOFFSETFROM:+1000
TZOFFSETTO:+1100
TZNAME:AEDT
END:DAYLIGHT
END:VTIMEZONE
END:VCALENDAR