BEGIN:VCALENDAR
VERSION:2.0
PRODID:-//wp-events-plugin.com//7.2.3.1//EN
TZID:Australia/Sydney
X-WR-TIMEZONE:Australia/Sydney
BEGIN:VEVENT
UID:10@ausfo.org.au
DTSTART;TZID=Australia/Sydney:20170117T080000
DTEND;TZID=Australia/Sydney:20170119T170000
DTSTAMP:20160805T110358Z
URL:https://www.ausfo.org.au/events/the-annual-congress-of-the-internation
 al-association-of-law-and-forensic-science-ialfs/
SUMMARY:The Annual Congress of The International Association of Law and For
 ensic Science (IALFS)
DESCRIPTION:The Annual Congress of The International Association of Law and
  Forensic Science (IALFS)\nIn Collaboration With\nThe 2nd International Ar
 ab Forensic Science &amp\; forensic Medicine Conference\n&amp\;\nThe 3rd K
 orean Forensic Medicine Authority Middle East Congress\nThe 9th Arab Union
  of Forensic Physicians Congress\nIslamic Countries Organization of Forens
 ic Medicine (ICOFM)\n\nWho Should Attend:\nJudges\, Coroners\, Policemen\,
  Lawyers\, Toxicologists\, Forensic Pathologists\, who are generally respo
 nsible for autopsies and for clinical forensic medicine i.e.\, examination
  of victims of rape and other types of violence in adults and juveniles\, 
 taking sexual and other delinquents into care\, Forensic Scientists and th
 ose working in police\, government or private forensic laboratories\, deal
 ing with fingerprints\, biochemical grouping\, drug analysis\, toxicology\
 , ballistics\, documents\, trace evidence examination\, accident reconstru
 ction\, Those working in other Fields of forensic science\, such as forens
 ic psychiatry\, physical anthropology\, medical law and bioethics\, forens
 ic odontology\, forensic scientific research\, etc.\nImportant Dates\n\n\n
 \nAugust 31\, 2016\nEarly Registration Deadline\n\n\nJan16\, 2017\nAdvance
  Registration Deadline\n\n\nDec 1\, 2016\nAbstracts Deadline\n\n\nJan17\, 
 2017\nOnsite Registration\n\n\n\n[learn_more caption="Visit website " stat
 e="open"] http://www.2016.ialfs.org/ginfo.html[/learn_more]
CATEGORIES:General Forensic,Overseas Event
LOCATION:Egypt:Forensic Middle East Congress\, Intercontinental City Stars 
 - Cairo\,  Kelani Mohammed Kelani\, Masaken Al Mohandesin\, Madinet Nasr\,
 \, Cairo\, Egypt
GEO:30.0444196;31.23571160000006
X-APPLE-STRUCTURED-LOCATION;VALUE=URI;X-ADDRESS=Intercontinental City Stars
  - Cairo\,  Kelani Mohammed Kelani\, Masaken Al Mohandesin\, Madinet Nasr\
 ,\, Cairo\, Egypt;X-APPLE-RADIUS=100;X-TITLE=Egypt:Forensic Middle East Co
 ngress:geo:30.0444196,31.23571160000006
END:VEVENT
BEGIN:VTIMEZONE
TZID:Australia/Sydney
X-LIC-LOCATION:Australia/Sydney
BEGIN:DAYLIGHT
DTSTART:20161002T030000
TZOFFSETFROM:+1000
TZOFFSETTO:+1100
TZNAME:AEDT
END:DAYLIGHT
END:VTIMEZONE
END:VCALENDAR