BEGIN:VCALENDAR
VERSION:2.0
PRODID:-//wp-events-plugin.com//7.2.3.1//EN
TZID:Australia/Sydney
X-WR-TIMEZONE:Australia/Sydney
BEGIN:VEVENT
UID:42@ausfo.org.au
DTSTART;TZID=Australia/Adelaide:20240113T233000
DTEND;TZID=Australia/Adelaide:20240113T233000
DTSTAMP:20240103T012646Z
URL:https://www.ausfo.org.au/events/iofos-webinar/
SUMMARY:IOFOS Webinar
DESCRIPTION:IOFOS Webinar on Practical Aspects of Forensic Photography in O
 ral Autopsy\n\n\n\n&nbsp\;\n\n&nbsp\;\n\n&nbsp\;\n\nTimes across Australia
 :\n\nPerth - 9pm\n\nBrisbane - 11pm\n\nAdelaide - 11:30pm\n\nMelbourne\, S
 ydney and Hobart - 12am\n\n&nbsp\;
CATEGORIES:General Forensic,Overseas Event
LOCATION:Various locations in Australia\, Melbourne\, Sydney\, Brisbane and
  Adelaide\, See link \, Australia
GEO:-37.814107;144.96327999999994
X-APPLE-STRUCTURED-LOCATION;VALUE=URI;X-ADDRESS=Melbourne\, Sydney\, Brisba
 ne and Adelaide\, See link \, Australia;X-APPLE-RADIUS=100;X-TITLE=Various
  locations in Australia:geo:-37.814107,144.96327999999994
END:VEVENT
BEGIN:VTIMEZONE
TZID:Australia/Adelaide
X-LIC-LOCATION:Australia/Adelaide
BEGIN:DAYLIGHT
DTSTART:20231001T030000
TZOFFSETFROM:+0930
TZOFFSETTO:+1030
TZNAME:ACDT
END:DAYLIGHT
END:VTIMEZONE
END:VCALENDAR