BEGIN:VCALENDAR
VERSION:2.0
PRODID:-//wp-events-plugin.com//7.2.3.1//EN
TZID:Australia/Sydney
X-WR-TIMEZONE:Australia/Sydney
BEGIN:VEVENT
UID:8@ausfo.org.au
DTSTART;TZID=Australia/Sydney;VALUE=DATE:20170914
DTEND;TZID=Australia/Sydney;VALUE=DATE:20170916
DTSTAMP:20160720T121857Z
URL:https://www.ausfo.org.au/events/iofos-international-conference-2017-le
 uven-belgium/
SUMMARY:IOFOS International Conference 2017 Leuven\, Belgium
DESCRIPTION:Dear Colleagues and Friends\,\n\nWelcome to one of the largest 
 Forensic Odontology conferences in the world. We invite you to participate
  in the 2017 IOFOS International Conference on Forensic Odontology\, organ
 ized at the Catholic University Leuven (Belgium)\, September 14-15\, 2017.
 \nThe scientific program will cover all aspects of forensic odontology res
 earch and practice. It intends to include participations from all those wo
 rking in the field\, ranging from trainees to junior and senior specialist
 s. Over recent years\, numerous developments in Forensic Odontology create
 d a need for debates and discussions. The conference program will provide 
 a forum for discussing and debating such controversies in a distinctive fo
 rmat. Pre and post conference workshops will be organized September 13 and
  16\, 2017.\nThe conference aims\, not only to introduce and disseminate k
 nowledge\, but also to facilitate communication with colleagues from the 3
 3 IOFOS member countries and those from the rest of the world. It will be 
 the ideal opportunity to establish international friendships\, partnership
 s and networks between colleagues. The social program will allow participa
 nts and accompanying persons to get to know each other better. Moreover\, 
 Leuven offers with a rich academic history\, a particular culture\, a rich
  architecture\, typical food/drinks and booked good weather the ideal conf
 erence venue.\nWelcome to the 2017 IOFOS International Conference on Foren
 sic Odontology in Leuven\, Belgium!\n\nProf. Dr. Patrick Thevissen\n\n
CATEGORIES:Overseas Event
LOCATION:Belgium \, Leuven\, Universiteitshal Promotiezaal Naamsestraat 22 
 3000 Leuven\, Leuven\, Belgium
GEO:50.8798438;4.700517600000012
X-APPLE-STRUCTURED-LOCATION;VALUE=URI;X-ADDRESS=Universiteitshal Promotieza
 al Naamsestraat 22 3000 Leuven\, Leuven\, Belgium;X-APPLE-RADIUS=100;X-TIT
 LE=Belgium \, Leuven:geo:50.8798438,4.700517600000012
END:VEVENT
BEGIN:VTIMEZONE
TZID:Australia/Sydney
X-LIC-LOCATION:Australia/Sydney
BEGIN:STANDARD
DTSTART:20170402T020000
TZOFFSETFROM:+1100
TZOFFSETTO:+1000
TZNAME:AEST
END:STANDARD
END:VTIMEZONE
END:VCALENDAR