BEGIN:VCALENDAR
VERSION:2.0
PRODID:-//wp-events-plugin.com//7.2.3.1//EN
TZID:Australia/Sydney
X-WR-TIMEZONE:Australia/Sydney
BEGIN:VEVENT
UID:37@ausfo.org.au
DTSTART;VALUE=DATE:20230906
DTEND;VALUE=DATE:20230909
DTSTAMP:20230313T235431Z
URL:https://www.ausfo.org.au/events/iofos-congress/
SUMMARY:IOFOS Congress
DESCRIPTION:IOFOS Congress of Forensic Odonto-Stomatology\nDubrovnik\, Croa
 tia\nSave the date: 6th to 8th of September 2023\n\nOn this occasion\, we 
 will celebrate the 50th anniversary of IOFOS.\n\nIn addition to scientific
  and professional presentations in the form of oral and poster presentatio
 ns\, the congress is preceded by several half-day workshops intended prim
 arily for students but also for all other interested participants. Each c
 ongress participant receives a textbook Forensic Odonto-Stomatology by IO
 FOS  as part of registration.\n\n Several social gatherings are also pla
 nned\, such as: Welcome reception\, sightseeing of the Old town\, Gala di
 nner and a day trip to the Pelješac peninsula with a variety of food and
  wine flavous.\n\n The registration fee will be divided into three catego
 ries: all participants\, students\, and accompanying persons.\nDear collea
 gues around the world\,\nIt is our great honor to invite you to send your 
 abstracts\nas well as all other information about the IOFOS Congress from 
 September 6 to 8\, 2023. All those who have decided to participate in the 
 IOFOS congress\,\nwe suggest that you contact the official agency "CONCORD
 A" for accommodation: iofos2023@concorda.hr\nor booking.com\nBook your acc
 ommodation in Dubrovnik as soon as possible because September is the most 
 desirable month for a good time in Dubrovnik!\n\nWe look forward to being 
 together again! Organization Committee\nhttp://www.iofos2023.com\n\n\n\n
CATEGORIES:General Forensic
LOCATION:Dubrovnik\, Croatia\, .\, Dubrovnik\, Croatia
X-APPLE-STRUCTURED-LOCATION;VALUE=URI;X-ADDRESS=.\, Dubrovnik\, Croatia;X-A
 PPLE-RADIUS=100;X-TITLE=Dubrovnik\, Croatia:geo:0,0
END:VEVENT
END:VCALENDAR