BEGIN:VCALENDAR
VERSION:2.0
PRODID:-//wp-events-plugin.com//7.2.3.1//EN
TZID:Australia/Sydney
X-WR-TIMEZONE:Australia/Sydney
BEGIN:VEVENT
UID:36@ausfo.org.au
DTSTART;TZID=Australia/Sydney;VALUE=DATE:20220621
DTEND;TZID=Australia/Sydney;VALUE=DATE:20220624
DTSTAMP:20220217T001208Z
URL:https://www.ausfo.org.au/events/interpol-meeting-2022/
SUMMARY:INTERPOL meeting 2022
DESCRIPTION:June 21-23\n\nLyon
CATEGORIES:General Forensic
LOCATION:Various locations in Australia\, Melbourne\, Sydney\, Brisbane and
  Adelaide\, See link \, Australia
GEO:-37.814107;144.96327999999994
X-APPLE-STRUCTURED-LOCATION;VALUE=URI;X-ADDRESS=Melbourne\, Sydney\, Brisba
 ne and Adelaide\, See link \, Australia;X-APPLE-RADIUS=100;X-TITLE=Various
  locations in Australia:geo:-37.814107,144.96327999999994
END:VEVENT
BEGIN:VTIMEZONE
TZID:Australia/Sydney
X-LIC-LOCATION:Australia/Sydney
BEGIN:STANDARD
DTSTART:20220403T020000
TZOFFSETFROM:+1100
TZOFFSETTO:+1000
TZNAME:AEST
END:STANDARD
END:VTIMEZONE
END:VCALENDAR