BEGIN:VCALENDAR
VERSION:2.0
PRODID:-//wp-events-plugin.com//7.2.3.1//EN
TZID:Australia/Sydney
X-WR-TIMEZONE:Australia/Sydney
BEGIN:VEVENT
UID:25@ausfo.org.au
DTSTART;TZID=Australia/Sydney;VALUE=DATE:20200921
DTEND;TZID=Australia/Sydney;VALUE=DATE:20200926
DTSTAMP:20200124T225908Z
URL:https://www.ausfo.org.au/events/international-association-of-forensic-
 sciences-2020/
SUMMARY:International Association of Forensic Sciences 2020
DESCRIPTION:22nd Triennial Meeting of the International Association of Fore
 nsic Sciences\nIn conjunction with the 25th Symposium of the Australian 
 &amp\; New Zealand Forensic Science Society 21-25 September 2020\, Inter
 national Convention Centre Sydney\, Australia\nKey Dates\nCall for Abstrac
 ts Open: Monday 23 September 2019\nCall for Abstracts Close: Friday 31
  January 2020\nRegistration Open: Monday 23 March 2020 Early Bird Regi
 stration\nDeadline: Monday 22 June 2020\nAuthor Registration Deadline:
  Monday 22 June 2020\n Meeting Dates: 21-25 September 2020\nFor more
  information visit the website[button link="https://iafs2020.com.au/" neww
 indow="yes"] Iafs 2020 website [/button]
CATEGORIES:General Forensic,Local Event
LOCATION:Australia\, Sydney\, Sydney\, Sydney\, Australia
GEO:-33.8688197;151.20929550000005
X-APPLE-STRUCTURED-LOCATION;VALUE=URI;X-ADDRESS=Sydney\, Sydney\, Australia
 ;X-APPLE-RADIUS=100;X-TITLE=Australia\, Sydney:geo:-33.8688197,151.2092955
 0000005
END:VEVENT
BEGIN:VTIMEZONE
TZID:Australia/Sydney
X-LIC-LOCATION:Australia/Sydney
BEGIN:STANDARD
DTSTART:20200405T020000
TZOFFSETFROM:+1100
TZOFFSETTO:+1000
TZNAME:AEST
END:STANDARD
END:VTIMEZONE
END:VCALENDAR