BEGIN:VCALENDAR
VERSION:2.0
PRODID:-//wp-events-plugin.com//7.2.3.1//EN
TZID:Australia/Sydney
X-WR-TIMEZONE:Australia/Sydney
BEGIN:VEVENT
UID:5@ausfo.org.au
DTSTART;TZID=Australia/Sydney:20160917T080000
DTEND;TZID=Australia/Sydney:20160923T173000
DTSTAMP:20160805T110228Z
URL:https://www.ausfo.org.au/events/inpalms-201612th-indo-pacific-associat
 ion-of-law-medicine-and-science-inpalms-congress-2016/
SUMMARY:INPALMS 2016:12th Indo-Pacific Association of Law\, Medicine and Sc
 ience (INPALMS) Congress 2016
DESCRIPTION:INPALMS 2016\n[button link="http://www.inpalms2016bali.com" new
 window="yes"] click on link to visit official website[/button]\nImportant 
 Date\nAbstract Submission Deadline 30 June 2016\nEarly Bird Until 30 June 
 2016\nOnline Registration will be closed on 31 August 2016
CATEGORIES:Overseas Event
LOCATION:The Stones Hotel - Legian Bali\, Jl. Raya Pantai Kuta\, Banjar Leg
 ian Kelod\, Legian\, Indonesia\, Indonesia
X-APPLE-STRUCTURED-LOCATION;VALUE=URI;X-ADDRESS=Jl. Raya Pantai Kuta\, Banj
 ar Legian Kelod\, Legian\, Indonesia\, Indonesia;X-APPLE-RADIUS=100;X-TITL
 E=The Stones Hotel - Legian Bali:geo:0,0
END:VEVENT
BEGIN:VTIMEZONE
TZID:Australia/Sydney
X-LIC-LOCATION:Australia/Sydney
BEGIN:STANDARD
DTSTART:20160403T020000
TZOFFSETFROM:+1100
TZOFFSETTO:+1000
TZNAME:AEST
END:STANDARD
END:VTIMEZONE
END:VCALENDAR