BEGIN:VCALENDAR
VERSION:2.0
PRODID:-//wp-events-plugin.com//7.2.3.1//EN
TZID:Australia/Sydney
X-WR-TIMEZONE:Australia/Sydney
BEGIN:VEVENT
UID:12@ausfo.org.au
DTSTART;TZID=Australia/Sydney;VALUE=DATE:20180827
DTEND;TZID=Australia/Sydney;VALUE=DATE:20180829
DTSTAMP:20170720T081850Z
URL:https://www.ausfo.org.au/events/icfs-2018-20th-international-conferenc
 e-forensic-sciences/
SUMMARY:ICFS 2018 : 20th International Conference on Forensic Sciences
DESCRIPTION:The ICFS 2018: 20th International Conference on Forensic Scien
 ces aims to bring together leading academic scientists\, researchers and 
 research scholars to exchange and share their experiences and research res
 ults on all aspects of Forensic Sciences. It also provides a premier inter
 disciplinary platform for researchers\, practitioners and educators to pre
 sent and discuss the most recent innovations\, trends\, and concerns as we
 ll as practical challenges encountered and solutions adopted in the fields
  of Forensic Sciences.\n\nFor more information check out their website [[
 button link="https://waset.org/conference/2018/08/paris/ICFS"] Link text[/
 button]\n\nTopics of interest for submission include\, but are not limited
  to:\n\nDigital Forensics Computer Forensics\n\nIT Security Internet Secur
 ity Malware Detection\n\nSystems Data Security Reverse Engineering\n\nCybe
 r Warfare Cyber Terrorism / Cyber Security Data Recovery Lawful Intercepti
 on\n\nVoice Biometrics and Authentication Solutions Biometrics Solutions (
 Iris\, Face\, Voice\, Palm\, Vein)\n\nForensic Document Examination Stegan
 ography\n\nLive and Memory Forensics\n\nCryptology Surveillance Counter Su
 rveillance\n\nIncident Response\n\nWireless Forensics MobileForensics GPS\
 n\nForensics Network Forensics E-Discovery\n\nPassword Recovery\n\nMedical
  Forensics\n\nForensic DNA Analysis\n\nForensic Anthropology\n\nForensic O
 dontology\n\nForensic Psychology/Psychiatry\nImportant Dates\n\n\n\nAbstra
 cts/Full-Text Paper Submission Deadline\n\nOctober 27\, 2017\n\n\nNotifica
 tion of Acceptance/Rejection\n\nFebruary 27\, 2018\n\n\nFinal Paper (Camer
 a Ready) Submission &amp\; Early Bird Registration Deadline\n\nApril 27\, 
 2018\n\n\nConference Dates\n\nAugust 27 - 28\, 2018\n\n\n\nImportant Notes
 \nPlease ensure your submission meets WASET's strict guidelines for accept
 ing scholarly papers. Downloadable versions of the check list for Full-Te
 xt Papers and Abstract Papers.
CATEGORIES:Overseas Event
LOCATION:Holiday Inn Paris Montparnasse Avenue Du Maine\, 79-81  Paris\, 75
 014 France\, Montparnasse Avenue Du Maine\, 79-81 \, Paris\, France
GEO:48.8382916;2.3230188
X-APPLE-STRUCTURED-LOCATION;VALUE=URI;X-ADDRESS=Montparnasse Avenue Du Main
 e\, 79-81 \, Paris\, France;X-APPLE-RADIUS=100;X-TITLE=Holiday Inn Paris M
 ontparnasse Avenue Du Maine\, 79-81  Paris\, 75014 France:geo:48.8382916,2
 .3230188
END:VEVENT
BEGIN:VTIMEZONE
TZID:Australia/Sydney
X-LIC-LOCATION:Australia/Sydney
BEGIN:STANDARD
DTSTART:20180401T020000
TZOFFSETFROM:+1100
TZOFFSETTO:+1000
TZNAME:AEST
END:STANDARD
END:VTIMEZONE
END:VCALENDAR