BEGIN:VCALENDAR
VERSION:2.0
PRODID:-//wp-events-plugin.com//7.2.3.1//EN
TZID:Australia/Sydney
X-WR-TIMEZONE:Australia/Sydney
BEGIN:VEVENT
UID:4@ausfo.org.au
DTSTART;TZID=Australia/Sydney:20160823T000000
DTEND;TZID=Australia/Sydney:20160824T170000
DTSTAMP:20160805T110148Z
URL:https://www.ausfo.org.au/events/icfs-2016-18th-international-conferenc
 e-on-forensic-sciences-3/
SUMMARY:ICFS 2016 : 18th International Conference on Forensic Sciences
DESCRIPTION:The ICFS 2016: 18th International Conference on Forensic Scienc
 es aims to bring together leading academic scientists\, researchers and re
 search scholars to exchange and share their experiences and research resul
 ts about all aspects of Forensic Sciences. It also provides the premier in
 terdisciplinary forum for researchers\, practitioners and educators to pre
 sent and discuss the most recent innovations\, trends\, and concerns\, pra
 ctical challenges encountered and the solutions adopted in the field of Fo
 rensic Sciences.\nCall for Contributions\n\nAll honourable authors are kin
 dly encouraged to contribute to and help shape the conference through subm
 issions of their research abstracts\, papers and e-posters. Also\, high qu
 ality research contributions describing original and unpublished results o
 f conceptual\, constructive\, empirical\, experimental\, or theoretical wo
 rk in all areas of Forensic Sciences are cordially invited for presentatio
 n at the conference. The conference solicits contributions of abstracts\, 
 papers and e-posters that address themes and topics of the conference\, in
 cluding figures\, tables and references of novel research material.\n\nImp
 ortant Dates\n\nAbstracts/Full-Text Paper Submission Deadline April 25\, 2
 016\nNotification of Acceptance May 15\, 2016\nFinal Paper (Camera Ready) 
 Submission &amp\; Early Bird Registration Deadline July 22\, 2016\nConfere
 nce Dates August 22 - 23\, 2016\n\n[button link="https://www.waset.org/con
 ference/2016/08/paris/ICFS" newwindow="yes"] Click to link to website [/bu
 tton]
CATEGORIES:General Forensic,Local Event
LOCATION:Australia\, School of Biomedical Sciences\, The University of Quee
 nsland \, Brisbane\, Queensland\, Australia
GEO:-27.4697707;153.02512350000006
X-APPLE-STRUCTURED-LOCATION;VALUE=URI;X-ADDRESS=School of Biomedical Scienc
 es\, The University of Queensland \, Brisbane\, Queensland\, Australia;X-A
 PPLE-RADIUS=100;X-TITLE=Australia:geo:-27.4697707,153.02512350000006
END:VEVENT
BEGIN:VTIMEZONE
TZID:Australia/Sydney
X-LIC-LOCATION:Australia/Sydney
BEGIN:STANDARD
DTSTART:20160403T020000
TZOFFSETFROM:+1100
TZOFFSETTO:+1000
TZNAME:AEST
END:STANDARD
END:VTIMEZONE
END:VCALENDAR