BEGIN:VCALENDAR
VERSION:2.0
PRODID:-//wp-events-plugin.com//7.2.3.1//EN
TZID:Australia/Sydney
X-WR-TIMEZONE:Australia/Sydney
BEGIN:VEVENT
UID:3@ausfo.org.au
DTSTART;TZID=Australia/Sydney:20160623T080000
DTEND;TZID=Australia/Sydney:20160624T170000
DTSTAMP:20160401T093524Z
URL:https://www.ausfo.org.au/events/icfs-2016-18th-international-conferenc
 e-on-forensic-sciences-2/
SUMMARY:ICFS 2016 : 18th International Conference on Forensic Sciences
DESCRIPTION:The ICFS 2016: 18th International Conference on Forensic Scienc
 es aims to bring together leading academic scientists\, researchers and re
 search scholars to exchange and share their experiences and research resul
 ts about all aspects of Forensic Sciences. It also provides the premier in
 terdisciplinary forum for researchers\, practitioners and educators to pre
 sent and discuss the most recent innovations\, trends\, and concerns\, pra
 ctical challenges encountered and the solutions adopted in the field of Fo
 rensic Sciences.\n\n[button link="https://www.waset.org/conference/2016/06
 /london/ICFS" newwindow="yes"] Click on link to visit website [/button]
LOCATION:London\, Holiday Inn London – Wembley\, Empire Way\, Wembley\, M
 iddlesex\, HA9 8DS\, London\, Wembley\, Empire Way\, Wembley\, Middlesex\,
  HA9 8DS\,\, Wembley\, Empire Way\, Wembley\, Middlesex\, HA9 8DS\,\, Unit
 ed Kingdom
GEO:51.5557315;-0.2853135000000293
X-APPLE-STRUCTURED-LOCATION;VALUE=URI;X-ADDRESS=Wembley\, Empire Way\, Wemb
 ley\, Middlesex\, HA9 8DS\,\, Wembley\, Empire Way\, Wembley\, Middlesex\,
  HA9 8DS\,\, United Kingdom;X-APPLE-RADIUS=100;X-TITLE=London\, Holiday In
 n London – Wembley\, Empire Way\, Wembley\, Middlesex\, HA9 8DS\, London
 :geo:51.5557315,-0.2853135000000293
END:VEVENT
BEGIN:VTIMEZONE
TZID:Australia/Sydney
X-LIC-LOCATION:Australia/Sydney
BEGIN:STANDARD
DTSTART:20160403T020000
TZOFFSETFROM:+1100
TZOFFSETTO:+1000
TZNAME:AEST
END:STANDARD
END:VTIMEZONE
END:VCALENDAR