BEGIN:VCALENDAR
VERSION:2.0
PRODID:-//wp-events-plugin.com//7.2.3.1//EN
TZID:Australia/Sydney
X-WR-TIMEZONE:Australia/Sydney
BEGIN:VEVENT
UID:29@ausfo.org.au
DTSTART;TZID=Australia/Sydney:20210927T000000
DTEND;TZID=Australia/Sydney:20210927T000000
DTSTAMP:20210914T233912Z
URL:https://www.ausfo.org.au/events/guest-lecture-series-of-the-department
 -of-oral-pathology-and-oral-biology/
SUMMARY:Guest Lecture Series of the Department of Oral Pathology and Oral B
 iology
DESCRIPTION:Online lecture series\, access via zoom\n\nSASFOS Guest Lecture
  Series Invite (002)
CATEGORIES:General Forensic
LOCATION:Various locations in Australia\, Melbourne\, Sydney\, Brisbane and
  Adelaide\, See link \, Australia
GEO:-37.814107;144.96327999999994
X-APPLE-STRUCTURED-LOCATION;VALUE=URI;X-ADDRESS=Melbourne\, Sydney\, Brisba
 ne and Adelaide\, See link \, Australia;X-APPLE-RADIUS=100;X-TITLE=Various
  locations in Australia:geo:-37.814107,144.96327999999994
END:VEVENT
BEGIN:VTIMEZONE
TZID:Australia/Sydney
X-LIC-LOCATION:Australia/Sydney
BEGIN:STANDARD
DTSTART:20210404T020000
TZOFFSETFROM:+1100
TZOFFSETTO:+1000
TZNAME:AEST
END:STANDARD
END:VTIMEZONE
END:VCALENDAR