BEGIN:VCALENDAR
VERSION:2.0
PRODID:-//wp-events-plugin.com//7.2.3.1//EN
TZID:Australia/Sydney
X-WR-TIMEZONE:Australia/Sydney
BEGIN:VEVENT
UID:24@ausfo.org.au
DTSTART;TZID=Australia/Sydney:20190718T090000
DTEND;TZID=Australia/Sydney:20190912T170000
DTSTAMP:20190611T070829Z
URL:https://www.ausfo.org.au/events/expert_witness_training_2019/
SUMMARY:Expert_witness_training_2019
DESCRIPTION:Do you want to be a confident expert witness?\nIf so\, these wo
 rkshops will help you.\nThere are two workshops\, the expert witness works
 hop and the advanced court skill workshop.\n\nThese workshops will be held
  in several locations and at various times of the year.\n\nPlease click on
  this link for more information and registration form: Expert_witness_trai
 ning_2019
CATEGORIES:General Forensic
LOCATION:Various locations in Australia\, Melbourne\, Sydney\, Brisbane and
  Adelaide\, See link \, Australia
GEO:-37.814107;144.96327999999994
X-APPLE-STRUCTURED-LOCATION;VALUE=URI;X-ADDRESS=Melbourne\, Sydney\, Brisba
 ne and Adelaide\, See link \, Australia;X-APPLE-RADIUS=100;X-TITLE=Various
  locations in Australia:geo:-37.814107,144.96327999999994
END:VEVENT
BEGIN:VTIMEZONE
TZID:Australia/Sydney
X-LIC-LOCATION:Australia/Sydney
BEGIN:STANDARD
DTSTART:20190407T020000
TZOFFSETFROM:+1100
TZOFFSETTO:+1000
TZNAME:AEST
END:STANDARD
END:VTIMEZONE
END:VCALENDAR