BEGIN:VCALENDAR
VERSION:2.0
PRODID:-//wp-events-plugin.com//7.2.3.1//EN
TZID:Australia/Sydney
X-WR-TIMEZONE:Australia/Sydney
BEGIN:VEVENT
UID:34@ausfo.org.au
DTSTART;TZID=Europe/Budapest:20211111T203000
DTEND;TZID=Europe/Budapest:20211111T213000
DTSTAMP:20211106T040836Z
URL:https://www.ausfo.org.au/events/dvi-hungary-lecture-series-nov-11-2021
 /
SUMMARY:DVI Hungary - Lecture Series - Nov 11 2021
DESCRIPTION:\n\nJoin via Zoom
CATEGORIES:Overseas Event,Webinar
LOCATION:Webinar\, Online\, See Webinar Information\, Australia
X-APPLE-STRUCTURED-LOCATION;VALUE=URI;X-ADDRESS=Online\, See Webinar Inform
 ation\, Australia;X-APPLE-RADIUS=100;X-TITLE=Webinar:geo:0,0
END:VEVENT
BEGIN:VTIMEZONE
TZID:Europe/Budapest
X-LIC-LOCATION:Europe/Budapest
BEGIN:STANDARD
DTSTART:20211031T020000
TZOFFSETFROM:+0200
TZOFFSETTO:+0100
TZNAME:CET
END:STANDARD
END:VTIMEZONE
END:VCALENDAR