BEGIN:VCALENDAR
VERSION:2.0
PRODID:-//wp-events-plugin.com//7.2.3.1//EN
TZID:Australia/Sydney
X-WR-TIMEZONE:Australia/Sydney
BEGIN:VEVENT
UID:16@ausfo.org.au
DTSTART;TZID=Australia/Sydney;VALUE=DATE:20191024
DTEND;TZID=Australia/Sydney;VALUE=DATE:20191027
DTSTAMP:20190911T095219Z
URL:https://www.ausfo.org.au/events/ausfo-symposium-2019/
SUMMARY:Ausfo symposium 2019
DESCRIPTION:Ausfo symposium 2019\nThe 2019 Symposium will be held between 2
 4-26 October 2019 in Sydney\, NSW Australia.  Please visit the website re
 gularly for updates.\n\n\n\n\n\n[button link="http://www.ausfo.org.au/eve
 nts/ausfo-symposium-2019/ausfo-2019-symposium-programme-23-26-oct/" newwin
 dow="yes"] Please click to view and download the programme.[/button]\n&nbs
 p\;\n\n\nImportant date:\nRegistration - Fees payable by 12 Sep 2019\n\n\n
 &nbsp\;\n\nAbstract Submission is now closed\nPlease follow this link for 
 the registration form:[button link="http://www.ausfo.org.au/wp-content/upl
 oads/AUSFO_Reg_Form-1.pdf" newwindow="yes"] Registration form [/button]\nP
 lease send digitally completed forms to :ausfo2019symposium@gmail.\n\n\n\n
 \n\n\n&nbsp\;\n\n\n\n&nbsp\;\n\nAny enquiries :\n\n\n\nPLEASE EMAIL: AUSFO
 2 019SYMPOSIUM@GMAIL.C OM.\n\n\n
CATEGORIES:AUSFO Event,Local Event
LOCATION:Royal Automobile Club of Australia\, Sydney\, 89 Macquarie St\, Sy
 dney\, NSW\, 2000\, Australia
X-APPLE-STRUCTURED-LOCATION;VALUE=URI;X-ADDRESS=89 Macquarie St\, Sydney\, 
 NSW\, 2000\, Australia;X-APPLE-RADIUS=100;X-TITLE=Royal Automobile Club of
  Australia\, Sydney:geo:0,0
END:VEVENT
BEGIN:VTIMEZONE
TZID:Australia/Sydney
X-LIC-LOCATION:Australia/Sydney
BEGIN:DAYLIGHT
DTSTART:20191006T030000
TZOFFSETFROM:+1000
TZOFFSETTO:+1100
TZNAME:AEDT
END:DAYLIGHT
END:VTIMEZONE
END:VCALENDAR