BEGIN:VCALENDAR
VERSION:2.0
PRODID:-//wp-events-plugin.com//7.2.3.1//EN
TZID:Australia/Sydney
X-WR-TIMEZONE:Australia/Sydney
BEGIN:VEVENT
UID:28@ausfo.org.au
DTSTART;TZID=Australia/Brisbane;VALUE=DATE:20220911
DTEND;TZID=Australia/Brisbane;VALUE=DATE:20220916
DTSTAMP:20211106T055836Z
URL:https://www.ausfo.org.au/events/anzfss-symposium/
SUMMARY:ANZFSS Symposium
DESCRIPTION:\n\nwww.anzfss2022.com/
CATEGORIES:Australian Event
LOCATION:Australia\, Brisbane\, tbd\, Brisbane\, QLD\, Australia
X-APPLE-STRUCTURED-LOCATION;VALUE=URI;X-ADDRESS=tbd\, Brisbane\, QLD\, Aust
 ralia;X-APPLE-RADIUS=100;X-TITLE=Australia\, Brisbane:geo:0,0
END:VEVENT
BEGIN:VTIMEZONE
TZID:Australia/Brisbane
X-LIC-LOCATION:Australia/Brisbane
BEGIN:STANDARD
DTSTART:20210911T000000
TZOFFSETFROM:+1000
TZOFFSETTO:+1000
TZNAME:AEST
END:STANDARD
END:VTIMEZONE
END:VCALENDAR