BEGIN:VCALENDAR
VERSION:2.0
PRODID:-//wp-events-plugin.com//7.2.3.1//EN
TZID:Australia/Sydney
X-WR-TIMEZONE:Australia/Sydney
BEGIN:VEVENT
UID:18@ausfo.org.au
DTSTART;TZID=Australia/Sydney;VALUE=DATE:20180530
DTEND;TZID=Australia/Sydney;VALUE=DATE:20180603
DTSTAMP:20180203T075803Z
URL:https://www.ausfo.org.au/events/26th-international-meeting-of-forensic
 -medicine-alpe-adria-pannonia/
SUMMARY:26th International Meeting of Forensic Medicine- Alpe Adria Pannoni
 a
DESCRIPTION:The Odontological Group under the patronage of IOFOS has two wo
 rkshops and a scientific session on Friday\, June 1st at this meeting.\nFo
 r information on the Meeting\, please check the web: http://aapforensic2
 018.mef.hr\n\n26th International Meeting of Forensic Medicine Alpe Adria P
 annonia\nOn behalf of the Institute of Forensic Medicine and Criminalistic
 s University of Zagreb\, we have the honor to inform you that UNILINE DMC 
 ( Meeting &amp\; Events Department)  is the technical organizer of the
  26th International Meeting on Forensic Medicine Alpe Adria Pannonia w
 hich will be held in Pula/Croatia\, at hotel Park Plaza Histria\, from 30 
 May to 2 June 2018.
CATEGORIES:General Forensic,Overseas Event
LOCATION:Croatia\, Park Plaza Histria\, Pula\, Croatia\, Croatia
GEO:44.83629500000001;13.839554099999987
X-APPLE-STRUCTURED-LOCATION;VALUE=URI;X-ADDRESS=Park Plaza Histria\, Pula\,
  Croatia\, Croatia;X-APPLE-RADIUS=100;X-TITLE=Croatia:geo:44.8362950000000
 1,13.839554099999987
END:VEVENT
BEGIN:VTIMEZONE
TZID:Australia/Sydney
X-LIC-LOCATION:Australia/Sydney
BEGIN:STANDARD
DTSTART:20180401T020000
TZOFFSETFROM:+1100
TZOFFSETTO:+1000
TZNAME:AEST
END:STANDARD
END:VTIMEZONE
END:VCALENDAR