BEGIN:VCALENDAR
VERSION:2.0
PRODID:-//wp-events-plugin.com//7.2.3.1//EN
TZID:Australia/Sydney
X-WR-TIMEZONE:Australia/Sydney
BEGIN:VEVENT
UID:1@ausfo.org.au
DTSTART;TZID=Australia/Sydney:20160918T080000
DTEND;TZID=Australia/Sydney:20160923T170000
DTSTAMP:20160401T085001Z
URL:https://www.ausfo.org.au/events/23rd-anzfss-symposium/
SUMMARY:23rd ANZFSS Symposium
DESCRIPTION:
ATTACH;FMTTYPE=image/jpeg:https://www.ausfo.org.au/wp-content/uploads/anzf
 ss-.jpg
LOCATION:SkyCity Auckland Convention Centre\, 88 Federal Street.   \, Auckl
 and \, Auckland CBD \, New Zealand
GEO:-36.8490283;174.7626758
X-APPLE-STRUCTURED-LOCATION;VALUE=URI;X-ADDRESS=88 Federal Street.   \, Auc
 kland \, Auckland CBD \, New Zealand;X-APPLE-RADIUS=100;X-TITLE=SkyCity Au
 ckland Convention Centre:geo:-36.8490283,174.7626758
END:VEVENT
BEGIN:VTIMEZONE
TZID:Australia/Sydney
X-LIC-LOCATION:Australia/Sydney
BEGIN:STANDARD
DTSTART:20160403T020000
TZOFFSETFROM:+1100
TZOFFSETTO:+1000
TZNAME:AEST
END:STANDARD
END:VTIMEZONE
END:VCALENDAR