BEGIN:VCALENDAR
VERSION:2.0
PRODID:-//wp-events-plugin.com//7.2.3.1//EN
TZID:Australia/Sydney
X-WR-TIMEZONE:Australia/Sydney
BEGIN:VEVENT
UID:30@ausfo.org.au
DTSTART:20210925T034500Z
DTEND:20210926T114500Z
DTSTAMP:20210914T234849Z
URL:https://www.ausfo.org.au/events/18th-annual-national-conference-of-ind
 ian-association-of-forensic-odontology/
SUMMARY:18th Annual National Conference of Indian Association of Forensic O
 dontology
DESCRIPTION:18th Annual National Conference of Indian Association of Forens
 ic Odontology\n\nInnovations &amp\; Trends in Forensic Odontology\n\nIAFO 
 Conference Brochure 2021
CATEGORIES:General Forensic
LOCATION:Various locations in Australia\, Melbourne\, Sydney\, Brisbane and
  Adelaide\, See link \, Australia
GEO:-37.814107;144.96327999999994
X-APPLE-STRUCTURED-LOCATION;VALUE=URI;X-ADDRESS=Melbourne\, Sydney\, Brisba
 ne and Adelaide\, See link \, Australia;X-APPLE-RADIUS=100;X-TITLE=Various
  locations in Australia:geo:-37.814107,144.96327999999994
END:VEVENT
END:VCALENDAR