BEGIN:VCALENDAR
VERSION:2.0
PRODID:-//wp-events-plugin.com//7.2.3.1//EN
TZID:Australia/Sydney
X-WR-TIMEZONE:Australia/Sydney
BEGIN:VEVENT
UID:9@ausfo.org.au
DTSTART;TZID=Australia/Sydney:20170715T080000
DTEND;TZID=Australia/Sydney:20170719T080000
DTSTAMP:20160805T110419Z
URL:https://www.ausfo.org.au/events/17th-biennial-meeting-of-the-internati
 onal-association-of-craniofacial-identification-iaci-2017/
SUMMARY:17th Biennial Meeting of the International Association of Craniofac
 ial Identification (IACI) 2017
DESCRIPTION:Dear Colleague\,\n                   \nWe ar
 e very pleased to invite you to attend the 17th Biennial Meeting of the In
 ternational Association of Craniofacial Identification (IACI) 2017 at the 
 School of Biomedical Sciences\, The University of Queensland in Brisbane\,
  AUSTRALIA\, 15-19 Jul 2017!\n \nThis is the first announcement for what 
 will be a very special meeting – the 30th Anniversary of the Association
 . We welcome new participants and hope that this anniversary inspires reun
 ions for many longstanding members!\nPlease reserve the aforementioned dat
 es in your diary and register your interest to attend and receive updates 
 at http://www.iaci2017.com.au/.\nFeel free to pass this invitation onto yo
 ur students and or anyone else who might be interested.\n \nA Call for Ab
 stracts will be made shortly and we encourage you to submit your very best
  and latest research in the craniofacial domain as pertains to forensic id
 entification for a podium or  poster presentation. The theme for this con
 ference will be “Science Supercharged Methods”. We anticipate submissi
 ons spanning the full breadth of the field\, from sex and ancestry estimat
 ion of skulls\, to face morphology prediction using genetics\, humanitaria
 n rights investigations\, the latest visualisation and shape analysis tool
 s\, police implementation and everything in between.\nAn overview of the s
 chedule is included below:\nSaturday 15th - Hands-on human face dissection
  workshop in the multimillion dollar SBMS Gross Anatomy Facilities (specia
 l registration required)\;\nSunday 16th - Workshop on Gerasimov’s Authen
 tic Methods of Plastic Facial Reconstruction – experience Gerasimov’s 
 specially formulated modelling mastic (special registration required)\;\nM
 onday/Tuesday 17-18th - Scientific sessions\;\nWednesday 19th - Island day
 trip adventure providing further networking opportunities!\n \nMore detai
 ls to follow soon at http://www.iaci2017.com.au/.\n \n30th Anniversary IA
 CI Conference Organising Committee (2017) - Carl Stephan\; Jodi Caple\; Jo
 hn Shaw\; Maryna Steyn\; Peter Claes\; John Clement\nwww.iaci2017.com.au |
  Enquiries: admin@iaci2017.com.au\n \nCarl N. Stephan\, PhD\nIACI Confere
 nce Organising Committee Chair\nHuCS-ID Lab Director &amp\; Senior Lecture
 r\nSchool of Biomedical Sciences\nThe University of Queensland | St Lucia
  | AUSTRALIA  4072\nPh: +61 7 3365 7485
CATEGORIES:General Forensic,Local Event
LOCATION:Australia\, School of Biomedical Sciences\, The University of Quee
 nsland \, Brisbane\, Queensland\, Australia
GEO:-27.4697707;153.02512350000006
X-APPLE-STRUCTURED-LOCATION;VALUE=URI;X-ADDRESS=School of Biomedical Scienc
 es\, The University of Queensland \, Brisbane\, Queensland\, Australia;X-A
 PPLE-RADIUS=100;X-TITLE=Australia:geo:-27.4697707,153.02512350000006
END:VEVENT
BEGIN:VTIMEZONE
TZID:Australia/Sydney
X-LIC-LOCATION:Australia/Sydney
BEGIN:STANDARD
DTSTART:20170402T020000
TZOFFSETFROM:+1100
TZOFFSETTO:+1000
TZNAME:AEST
END:STANDARD
END:VTIMEZONE
END:VCALENDAR